
BEGIN:VCALENDAR
VERSION:2.0
PRODID:-//The Diatribe - ECPv6.15.20//NONSGML v1.0//EN
CALSCALE:GREGORIAN
METHOD:PUBLISH
X-ORIGINAL-URL:https://thediatribe.org
X-WR-CALDESC:Events for The Diatribe
REFRESH-INTERVAL;VALUE=DURATION:PT1H
X-Robots-Tag:noindex
X-PUBLISHED-TTL:PT1H
BEGIN:VTIMEZONE
TZID:America/Detroit
BEGIN:DAYLIGHT
TZOFFSETFROM:-0500
TZOFFSETTO:-0400
TZNAME:EDT
DTSTART:20240310T070000
END:DAYLIGHT
BEGIN:STANDARD
TZOFFSETFROM:-0400
TZOFFSETTO:-0500
TZNAME:EST
DTSTART:20241103T060000
END:STANDARD
BEGIN:DAYLIGHT
TZOFFSETFROM:-0500
TZOFFSETTO:-0400
TZNAME:EDT
DTSTART:20250309T070000
END:DAYLIGHT
BEGIN:STANDARD
TZOFFSETFROM:-0400
TZOFFSETTO:-0500
TZNAME:EST
DTSTART:20251102T060000
END:STANDARD
BEGIN:DAYLIGHT
TZOFFSETFROM:-0500
TZOFFSETTO:-0400
TZNAME:EDT
DTSTART:20260308T070000
END:DAYLIGHT
BEGIN:STANDARD
TZOFFSETFROM:-0400
TZOFFSETTO:-0500
TZNAME:EST
DTSTART:20261101T060000
END:STANDARD
END:VTIMEZONE
BEGIN:VEVENT
DTSTART;TZID=America/Detroit:20250922T153000
DTEND;TZID=America/Detroit:20250922T163000
DTSTAMP:20260422T062335
CREATED:20250604T120947Z
LAST-MODIFIED:20250604T120947Z
UID:10000030-1758555000-1758558600@thediatribe.org
SUMMARY:Tour The Emory
DESCRIPTION:Join us for a tour of The Emory Arts & Culture Hub! Learn aboout all of the work we have put in thus far and where we plan on going! \n**Please wear closed toed shoes\, we will provide the hard hats!**
URL:https://thediatribe.org/event/tour-the-emory-12/
LOCATION:The Emory Arts & Culture Hub\, 2040 Division Ave S\, Grand Rapids\, MI\, 49507\, United States
CATEGORIES:Emory Tours
ATTACH;FMTTYPE=image/png:https://thediatribe.org/wp-content/uploads/2025/02/Book-a-tour-to-see-The-Emory-Arts-and-Culture-Center-8.png
END:VEVENT
BEGIN:VEVENT
DTSTART;TZID=America/Detroit:20251027T153000
DTEND;TZID=America/Detroit:20251027T163000
DTSTAMP:20260422T062335
CREATED:20250604T121056Z
LAST-MODIFIED:20251001T203237Z
UID:10000031-1761579000-1761582600@thediatribe.org
SUMMARY:Tour The Emory
DESCRIPTION:Join us for a tour of The Emory Arts & Culture Hub! Learn aboout all of the work we have put in thus far and where we plan on going! \n**Please wear closed toed shoes\, we will provide the hard hats!**
URL:https://thediatribe.org/event/tour-the-emory-13/
LOCATION:The Emory Arts & Culture Hub\, 2040 Division Ave S\, Grand Rapids\, MI\, 49507\, United States
CATEGORIES:Emory Tours
ATTACH;FMTTYPE=image/png:https://thediatribe.org/wp-content/uploads/2025/02/Book-a-tour-to-see-The-Emory-Arts-and-Culture-Center-8.png
END:VEVENT
END:VCALENDAR